Workbook
Name a: [1]辞書!$B$11:$J$225
Name a: [1]辞書!$B$11:$J$225
Name a: [2]辞書!$B$11:$J$225
Name a: [2]辞書!$B$11:$J$225
Name a: [3]辞書!$B$11:$J$225
Name a: [3]辞書!$B$11:$J$225
Name a: [4]辞書!$B$11:$J$225
Name a: [4]辞書!$B$11:$J$225
Name a: [2]辞書!$B$11:$J$225
Name a: [4]辞書!$B$11:$J$225
Name tu: #REF!
Name tu: #REF!
Name tu: #REF!
Name tu: #REF!
Name tu: #REF!
Name 各理事長: [2]辞書!$B$11:$J$225
Name 単女: [5]辞書!$B$11:$J$225
Name 単女: [5]辞書!$B$11:$J$225
Name 単女: [5]辞書!$B$11:$J$225
Name 単女: [6]辞書!$B$11:$J$225
Name 単女: [3]辞書!$B$11:$J$225
Name 単女: [5]辞書!$B$11:$J$225
Name 単女: [6]辞書!$B$11:$J$225
Name 単女: [3]辞書!$B$11:$J$225
Name 男子H262決定版: [6]辞書!$B$11:$J$225
Name 男子H262決定版: [6]辞書!$B$11:$J$225
Name 男子H262決定版: [3]辞書!$B$11:$J$225
Name 男子H262決定版: [6]辞書!$B$11:$J$225
Name 男子H262決定版: [6]辞書!$B$11:$J$225
Name 男子H262決定版: [3]辞書!$B$11:$J$225

Sheet 大会要項（各支部理事長）
C1: ２０２６年９月１１日発行
A2: 各支部理事長 各位
C4: 一般社団法人 福島県卓球協会 会長 齋藤 一美 （公印省略）
A5: 福島県卓球協会 大会要項 申込書
A7: 大会名 | C7: 令和八年度第４回福島県小中高校生卓球競技選抜強化リーグ大会
A8: 主催 | C8: 一般社団法人 福島県卓球協会
A9: 後援 | C9: 南相馬市、株式会社VICTAS
A10: 特別協賛
A11: 主管支部 | C11: 相双支部
A12: 日時
A13: 日程 | C13: ２０２６年１０月３１日（土）
A14: 試合開始 | B14: 試合開始 | C14: 午前9:00
A15: 開催場所
A16: 会場 | C16: まるさん・あったまるアリーナ（南相馬市スポーツセンター）
A17: 開場 | C17: 午前7:30 開会式 午前8:50
A18: 住所 | C18: 〒975-0032 福島県南相馬市原町区桜井町2-200 TEL 0244-22-8951
A19: 種目概要 | C19: 会場の収容人員の関係で各支部の推薦は人数限定で、それ以上は受け付けません。 参加申込が多い場合は推薦選手をお断りする場合がありますのでご了承ください。 高校生の推薦選手ならびに地元増による推薦選手（小・中・高）についてはランキングに含めません。 小学生：令和８年度第１回～第５回までの小学生強化リーグ男女各上位２０名 （２０２７年度第１回小中高強化リーグまで参加できます） 全国大会ベスト１６以上に入った選手は翌年度の同大会まで参加可能 中学生：下記県大会シングルスベスト３２以上が参加資格を獲得し、1年間参加資格がある。 令和八年度 中学生県学年別卓球大会（※中学１年生の部はベスト１６） 令和八年度 県中体連シングルス 令和八年度 福島県カデットシングルス 中学生各地区推薦男女各4名、もしくは合計8名（県大会出場資格者限定）（地元増：若干名） 高校生：下記県大会シングルスベスト３２以上が参加資格を獲得し、1年間参加資格がある。 令和八年度福島県高校総体 令和八年度県総スポ 令和八年度福島県ジュニア 令和七年度県高校新人戦 高校生各地区推薦男女各4名、もしくは合計8名（県大会出場資格者限定）（地元増：若干名）
A20: 参加資格
A21: 種目 | C21: 男女別シングルス（リーグ戦）
A22: 試合方法 | C22: ・リーグ戦により順位を決定する。 ・各種目とも全試合１ゲーム１１点、５ゲームズマッチで行う。 但し、参加人数が多数となり終了できないと判断した場合には、３ゲームマッチとすることもあります。 ・台の高さは 全種目 76cm とする
A23: 使用球 | C23: JTTA公認球（40mmホワイト）VICTAS VP40＋プラスチック球を使用する。
A24: ルール | C24: ① 現行の日本卓球ルールによる。 ② タイムアウト制は採用しない ③ ベンチコーチは認めるが、試合進行に支障をきたす場合はなしとする場合もあります。
A25: 参加料 | C25: 個人戦 1人 1,500円
A26: 振込先 | C26: 県で徴収 ※大会当日に収めてください。棄権の場合も徴収されます。
A31: 申込締切 | C31: １０月１３日（火）１７：００ 受付終了
A32: 申込先 | C32: 福島県卓球協会 強化普及委員会 佐藤 潤 宛
C33: 〒960-8001 福島県福島市天神町１０－２０
C34: 携帯電話 090-7564-0117
C35: 電子メール pinpon@hechima.co.jp
A36: 表彰 | B36: 組み合わせ会 | C36: 各組3位までを表彰する。
A37: 上位大会 | B37: 組み合わせ会 | C37: 東北中学強化交流大会（12/26-27 宮城県開催）選考（参考） 各種合宿等の選手選考（参考）
A38: その他
C39: 参加者はスポーツ傷害保険に加入していること。
C40: 前回各組優勝者はカップの返還をお願いします。 ※各地区責任者が責任をもって連絡をお願いします。
C41: 【前回 各組優勝者】 男子１組 橋本理陽人（帝京安積高） 女子１組 矢部 莉央（喜多方高） 男子２組 遠宮 雄斗（帝京安積高） 女子２組 佐藤 夏実（郡山ふれあい） 男子３組 佐々木 遼（帝京安積高） 女子３組 三瓶 美咲（勿来卓球クラブ）
C42: 一旦納入された参加料などは返納いたしません。
C43: 朝の練習時間、割り振りは組み合わせ送付時に連絡いたします。
C44: 病気、事故に備えて、各自健康保険証を持参して下さい。 けが等の場合には、可能な応急処置はしますが、各自の責任に帰することとします。 選手の健康管理は本人の責任とします。健康診断などを事前に受ける事。
C45: 大会参加中、万一事故のあった場合は、日本卓球協会の「会員お見舞い制度」の範囲内で対応致します。（但し、大会前日までに登録料の支払いまで完了している選手になります。申請は県事務局となります）
C46: 大会結果や写真等を福島県卓球協会ホームページや各報道機関よる新聞・雑誌等へ掲載する場合があります。 掲載等に問題がある選手は事前に、事務局までご連絡下さい。 また、参会者の写真・映像を広報資料などに使用することに対して肖像権を主張しないことに問題がある場合は事前に事務局へご連絡ください。
A47: 追記注意事項 | C47: ※ 忘れ物は、開催会場または主管卓球協会が一時保管しますが、一定期間後に処分いたします。 保管期間は保管団体が定めます。
C48: ※ 万が一事故がありました時の初期対応はしますが、個人の責任でお願いします。
C49: ※ 時間短縮が必要となる場合、試合方法等の当日変更もあり得ます。

Sheet 大会要項（所属長）
C1: ='大会要項（各支部理事長）'!C1 -> ２０２６年９月１１日発行
A2: 福島県卓球協会関係各位
A3: 所属長各位
C4: 一般社団法人 福島県卓球協会 会長 齋藤 一美 （公印省略）
A5: 福島県卓球協会 大会要項 申込書
A7: 大会名 | C7: ='大会要項（各支部理事長）'!C7 -> 令和八年度第４回福島県小中高校生卓球競技選抜強化リーグ大会
A8: 主催 | C8: ='大会要項（各支部理事長）'!C8 -> 一般社団法人 福島県卓球協会
A9: 後援 | C9: ='大会要項（各支部理事長）'!C9 -> 南相馬市、株式会社VICTAS
A10: 特別協賛
A11: 主管支部 | C11: ='大会要項（各支部理事長）'!C11 -> 相双支部
A12: 日時
A13: 日程 | C13: ='大会要項（各支部理事長）'!C13 -> ２０２６年１０月３１日（土）
A14: 試合開始 | B14: 試合開始 | C14: ='大会要項（各支部理事長）'!C14 -> 午前9:00
A15: 開催場所
A16: 会場 | C16: ='大会要項（各支部理事長）'!C16 -> まるさん・あったまるアリーナ（南相馬市スポーツセンター）
A17: 開場 | C17: ='大会要項（各支部理事長）'!C17 -> 午前7:30 開会式 午前8:50
A18: 住所 | C18: ='大会要項（各支部理事長）'!C18 -> 〒975-0032 福島県南相馬市原町区桜井町2-200 TEL 0244-22-8951
A19: 種目概要 | C19: 会場の収容人員の関係で各支部の推薦は人数限定で、それ以上は受け付けません。 参加申込が多い場合は推薦選手をお断りする場合がありますのでご了承ください。 高校生の推薦選手ならびに地元増による推薦選手（小・中・高）についてはランキングに含めません。 小学生：令和８年度第１回～第５回までの小学生強化リーグ男女各上位２０名 （２０２７年度第１回小中高強化リーグまで参加できます） 全国大会ベスト１６以上に入った選手は翌年度の同大会まで参加可能 中学生：下記県大会シングルスベスト３２以上が参加資格を獲得し、1年間参加資格がある。 令和八年度 中学生県学年別卓球大会（※中学１年生の部はベスト１６） 令和八年度 県中体連シングルス 令和八年度 福島県カデットシングルス 中学生各地区推薦男女各4名、もしくは合計8名（県大会出場資格者限定）（地元増：若干名） 高校生：下記県大会シングルスベスト３２以上が参加資格を獲得し、1年間参加資格がある。 令和八年度福島県高校総体 令和八年度県総スポ 令和八年度福島県ジュニア 令和七年度県高校新人戦 高校生各地区推薦男女各4名、もしくは合計8名（県大会出場資格者限定）（地元増：若干名）
A20: 参加資格
A21: 種目 | C21: 男女別シングルス（リーグ戦）
A22: 試合方法 | C22: ・リーグ戦により順位を決定する。 ・各種目とも全試合１ゲーム１１点、５ゲームズマッチで行う。 但し、参加人数が多数となり終了できないと判断した場合には、３ゲームマッチとすることもあります。 ・台の高さは 全種目 76cm とする
A23: 使用球 | C23: JTTA公認球（40mmホワイト）VICTAS VP40＋プラスチック球を使用する。
A24: ルール | C24: ① 現行の日本卓球ルールによる。 ② タイムアウト制は採用しない ③ ベンチコーチは認めるが、試合進行に支障をきたす場合はなしとする場合もあります。
A25: 参加料 | C25: 個人戦 1人 1,500円
A26: 振込先 | C26: 県で徴収 ※大会当日に収めてください。棄権の場合も徴収されます。
A31: 申込締切 | C31: １０月９日（金）１７：００ 受付終了
A32: 申込先 | C32: 各支部理事長 宛
C33: 〒
C34: 電話 (FAX )
C35: 携帯電話
C36: 電子メール
A37: 表彰 | B37: 組み合わせ会 | C37: 各組3位までを表彰する。
A38: 上位大会 | B38: 組み合わせ会 | C38: 東北中学強化交流大会（12/26-27 宮城県開催）選考（参考） 各種合宿等の選手選考（参考）
A39: その他
C40: 参加者はスポーツ傷害保険に加入していること。
C41: 前回各組優勝者はカップの返還をお願いします。 ※各地区責任者が責任をもって連絡をお願いします。
C42: 【前回 各組優勝者】 男子１組 橋本理陽人（帝京安積高） 女子１組 矢部 莉央（喜多方高） 男子２組 遠宮 雄斗（帝京安積高） 女子２組 佐藤 夏実（郡山ふれあい） 男子３組 佐々木 遼（帝京安積高） 女子３組 三瓶 美咲（勿来卓球クラブ）
C43: 一旦納入された参加料などは返納いたしません。
C44: 朝の練習時間、割り振りは組み合わせ送付時に連絡いたします。
C45: 病気、事故に備えて、各自健康保険証を持参して下さい。 けが等の場合には、可能な応急処置はしますが、各自の責任に帰することとします。 選手の健康管理は本人の責任とします。健康診断などを事前に受ける事。
C46: 大会参加中、万一事故のあった場合は、日本卓球協会の「会員お見舞い制度」の範囲内で対応致します。（但し、大会前日までに登録料の支払いまで完了している選手になります。申請は県事務局となります）
C47: 大会結果や写真等を福島県卓球協会ホームページや各報道機関よる新聞・雑誌等へ掲載する場合があります。 掲載等に問題がある選手は事前に、事務局までご連絡下さい。 また、参会者の写真・映像を広報資料などに使用することに対して肖像権を主張しないことに問題がある場合は事前に事務局へご連絡ください。
A48: 追記注意事項 | C48: ※ 忘れ物は、開催会場または主管卓球協会が一時保管しますが、一定期間後に処分いたします。 保管期間は保管団体が定めます。
C49: ※ 万が一事故がありました時の初期対応はしますが、個人の責任でお願いします。
C50: ※ 時間短縮が必要となる場合、試合方法等の当日変更もあり得ます。

Sheet 申込一覧表 (理事長用)
B2: ='大会要項（各支部理事長）'!C7 -> 令和八年度第４回福島県小中高校生卓球競技選抜強化リーグ大会
B3: 支部別申込一覧
B5: 各地区理事長様
C6: 支部名（ 支部 ） | F6: 理事長名
B8: ※ 申込の抜けがないかを確認できるようにしました。各支部の常連のクラブの不参加の
B9: 場合でも必ず、記入願います。（当該支部のみの記入をお願いします）
B12: No. | C12: 支部 | D12: 所属名 | E12: 男子 | F12: 女子 | G12: 合計 | H12: 参加費合計 | I12: 指導者用配布数
B13: 1 | G13: =SUM(E13:F13) -> 0 | H13: =G13*1500 -> 0 | I13: =1+G13/5 -> 1
B14: 2 | G14: =SUM(E14:F14) -> 0 | H14: =G14*1500 -> 0 | I14: =1+G14/5 -> 1
B15: 3 | G15: =SUM(E15:F15) -> 0 | H15: =G15*1500 -> 0 | I15: =1+G15/5 -> 1
B16: 4 | G16: =SUM(E16:F16) -> 0 | H16: =G16*1500 -> 0 | I16: =1+G16/5 -> 1
B17: 5 | G17: =SUM(E17:F17) -> 0 | H17: =G17*1500 -> 0 | I17: =1+G17/5 -> 1
B18: 6 | G18: =SUM(E18:F18) -> 0 | H18: =G18*1500 -> 0 | I18: =1+G18/5 -> 1
B19: 7 | G19: =SUM(E19:F19) -> 0 | H19: =G19*1500 -> 0 | I19: =1+G19/5 -> 1
B20: 8 | G20: =SUM(E20:F20) -> 0 | H20: =G20*1500 -> 0 | I20: =1+G20/5 -> 1
B21: 9 | G21: =SUM(E21:F21) -> 0 | H21: =G21*1500 -> 0 | I21: =1+G21/5 -> 1
B22: 10 | G22: =SUM(E22:F22) -> 0 | H22: =G22*1500 -> 0 | I22: =1+G22/5 -> 1
B23: 11 | G23: =SUM(E23:F23) -> 0 | H23: =G23*1500 -> 0 | I23: =1+G23/5 -> 1
B24: 12 | G24: =SUM(E24:F24) -> 0 | H24: =G24*1500 -> 0 | I24: =1+G24/5 -> 1
... B52: 40 | G52: =SUM(E52:F52) -> 0 | H52: =G52*1500 -> 0 | I52: =1+G52/5 -> 1
D53: 合 計 | E53: =SUM(E13:E52) -> 0 | F53: =SUM(F13:F52) -> 0 | G53: =SUM(G13:G52) -> 0 | H53: =SUM(H13:H52) -> 0 | I53: =SUM(I24:I51) -> 28
D58: 参加者 | E58: =E53 -> 0 | F58: =F53 -> 0
D59: 招待選手 | E59: 0 | F59: 0
D60: 合計 | E60: =SUM(E58:E59) -> 0 | F60: =SUM(F58:F59) -> 0
D61: 1 | E61: 8 | F61: 8
D62: 2 | E62: 7 | F62: 8
D63: 3 | E63: 7 | F63: 8
D64: 4 | E64: 7 | F64: 8
D65: 5 | E65: 7 | F65: 8
D66: 6 | E66: 7 | F66: 8
D67: 7 | E67: 7 | F67: 7
D68: 8 | E68: 7 | F68: 7
D69: 9 | E69: 7 | F69: 7
D70: 10 | E70: 7 | F70: 7
D71: 11 | E71: 7 | F71: 7
D72: 12 | F72: 7
D73: 13
D74: 14
E75: =SUM(E61:E74) -> 78 | F75: =SUM(F61:F74) -> 90

Sheet 申込用紙（チーム用）
B2: ='大会要項（各支部理事長）'!C7 -> 令和八年度第４回福島県小中高校生卓球競技選抜強化リーグ大会
C4: 所 属 ： | G4: 支部 | L4: 支部締切
C5: 責任者 ： | L5: ='大会要項（所属長）'!C31 -> １０月９日（金）１７：００ 受付終了
C6: 住 所 ：
C7: 責任者連絡先 ：
C8: 代表者メールアドレス ：
B10: 申込記入欄 ※資格、学年、ランクなどの記入漏れがないように確認してください。
B11: 組合せの参考にするため、参加資格は直近の参加資格の詳細を記入してください。 ※カデットベスト８であればカデット８、高校総体ベスト８であれば高校総体８ ※小学生であれば小学生強化リーグの回数と順位（第１回１７位⇒1-17位） ※高校生は重複登録ができないため、高体連所属選手はクラブからの参加はできません。
B12: No. | C12: 男・女 | D12: 前回 ランク | E12: 氏 名 | F12: 所属名 | G12: 支部 | H12: 直近 参加資格 | I12: 学年 | J12: 中国遠征 合宿 選考会 | K12: 前々回 ランク | L12: 備 考
B13: 例 | C13: 男 | D13: 直接入力 | F13: 上記所属を反映させる | H13: 記入例 | I13: 選択する | K13: 前回欠席の場合記入する
D14: 50 | E14: 福島 太郎 | F14: うつくしまクラブ | G14: 会津 | H14: カデット32=>カ32 学年別16=>学16 インターハイ8位=>IH8 推薦：（推） 地元増：（地元） | I14: 中2 | J14: 参加 希望 ：〇 | K14: 3=77 | L14: <=記入について 対象大会と成績も 記載してください。 例：３回７７位 ↓初参加の場合"初"
B15: 1 | C15: 男 | F15: =H4 | G15: =F4 -> 0
B16: 2 | C16: 男 | F16: =F15 | G16: =G15 -> 0
B17: 3 | C17: 男 | F17: =F16 | G17: =G16 -> 0
B18: 4 | C18: 男 | F18: =F17 | G18: =G17 -> 0
B19: 5 | C19: 男 | F19: =F18 | G19: =G18 -> 0
B20: 6 | C20: 男 | F20: =F19 | G20: =G19 -> 0
B21: 7 | C21: 男 | F21: =F20 | G21: =G20 -> 0
B22: 8 | C22: 男 | F22: =F21 | G22: =G21 -> 0
B23: 9 | C23: 男 | F23: =F22 | G23: =G22 -> 0
B24: 10 | C24: 男 | F24: =F23 | G24: =G23 -> 0
F25: =F24 | G25: =G24 -> 0
B26: 11 | C26: 女 | F26: =F25 | G26: =G25 -> 0
B27: 12 | C27: 女 | F27: =F26 | G27: =G26 -> 0
B28: 13 | C28: 女 | F28: =F27 | G28: =G27 -> 0
B29: 14 | C29: 女 | F29: =F28 | G29: =G28 -> 0
B30: 15 | C30: 女 | F30: =F29 | G30: =G29 -> 0
B31: 16 | C31: 女 | F31: =F30 | G31: =G30 -> 0
B32: 17 | C32: 女 | F32: =F31 | G32: =G31 -> 0
B33: 18 | C33: 女 | F33: =F32 | G33: =G32 -> 0
B34: 19 | C34: 女 | F34: =F33 | G34: =G33 -> 0
B35: 20 | C35: 女 | F35: =F34 | G35: =G34 -> 0
C36: 上記申込についての注意事項 ：
C37: ⓪ 年末年始の 中国遠征合宿の参加希望者は 有 ・ 無 蘭に 有 に 〇を 付けて下さい。
C38: ① 初参加の場合は、備考欄に ”初” と記入して下さい。
C39: ② ランキングは 前回の小中高強化リーグのランキングを記入してください。
C40: ③ 前回参加してない場合は ”欠” と記入し、 前々回ランク欄にそのランキングを記入する。
C41: ④ しばらくぶりに参加する場合は、備考欄に いつの大会でランキング何位かを記入する。
C42: ⑤ 参加資格に該当する大会名と順位を記入願います。
C43: ⑥ 推薦の場合 参加資格に “推薦” と記入願います。

Sheet 2026-3男子ランキング
A1: 2026年度第3回福島県小中高校生卓球競技選抜強化リーグ大会（男子） 2026年8月29日(土) ランキング
A2: 男 子 | H2: ※ 高校生の推薦選手・小学生の推薦選手・地元増推薦選手は ランキング表には掲載しない。 | AA2: いわき市立総合体育館
A4: ランク | B4: 氏名 | C4: 所属 | D4: 地区 | E4: メモ | F4: 学年 | H4: ランク | I4: 氏名 | J4: 所属 | K4: 地区 | L4: メモ | M4: 学年 | O4: ランク | P4: 氏名 | Q4: 所属 | R4: 地区 | S4: メモ | T4: 学年 | V4: ランク | W4: 氏名 | X4: 所属 | Y4: 地区 | Z4: メモ | AA4: 学年
A5: 1 | B5: 橋本 理陽人 | C5: 帝京安積高 | D5: 県中 | E5: IH8 | F5: 高3 | H5: 31 | I5: 平澤 翔太 | J5: 赤井中 | K5: いわき | L5: 学16 | M5: 中3 | O5: 61 | P5: 斎藤 旭 | Q5: 本宮卓球クラブ | R5: 県中 | S5: 小2-10 | T5: 小6 | V5: 91 | W5: 大関 奏空 | X5: Ｔ.Ｃ赤井沢 | Y5: 県北 | Z5: 学32 | AA5: 中2
A6: 2 | B6: 栗崎 叶羽椰 | C6: 帝京安積高 | D6: 県中 | E6: IH8 | F6: 高2 | H6: 32 | I6: 橋本 蒼生 | J6: 勿来卓球クラブ | K6: いわき | L6: 学3 | M6: 中2 | O6: 62 | P6: 井上 優空 | Q6: 喜多方卓球ランド | R6: 会津 | S6: 小2-8 | T6: 小5 | V6: 92 | W6: 藤田 瑛泰 | X6: セブンクラブ | Y6: 相双 | Z6: 小2-18 | AA6: 小6
A7: 3 | B7: 渡辺 奏汰朗 | C7: 二本松卓球クラブ | D7: 県北 | E7: 学3 | F7: 中3 | H7: 33 | I7: 島貫 裕之 | J7: チームA.T.C | K7: 県北 | L7: 学32 | M7: 中3 | O7: 63 | P7: 坂本 康亮 | Q7: 二本松卓球クラブ | R7: 県北 | S7: 学32 | T7: 中2 | V7: 93 | W7: 長尾 武留 | X7: 富久山卓球クラブ | Y7: 県中 | Z7: （推） | AA7: 中3
A8: 4 | B8: 鈴木 誠矢 | C8: 本宮卓球クラブ | D8: 県中 | E8: 学2 | F8: 中2 | H8: 34 | I8: 渡邉 翔 | J8: 小名浜二中 | K8: いわき | L8: 学8 | M8: 中3 | O8: 64 | P8: 佐藤 祐洋 | Q8: セブンクラブ | R8: 相双 | S8: 学8 | T8: 中2 | V8: 94 | W8: 小山田 光基 | X8: 郡山第一卓球クラブ | Y8: 県中 | Z8: 小2-17 | AA8: 小5
A9: 5 | B9: 渡辺 善亮 | C9: 二本松実業高 | D9: 県北 | E9: IH32 | F9: 高3 | H9: 35 | I9: 橋本 逞馬 | J9: 本宮卓球クラブ | K9: 県中 | L9: 小2-1 | M9: 小6 | O9: 65 | P9: 長郷 樹 | Q9: 城北TTC | R9: 会津 | S9: 学8 | T9: 中2 | V9: 95 | W9: 大竹 樹輝 | X9: 郡山四中 | Y9: 県中 | Z9: 学32 | AA9: 中2
A10: 6 | B10: 遠宮 雄斗 | C10: 帝京安積高 | D10: 県中 | E10: 総16 | F10: 高2 | H10: 36 | I10: 梅田 紘矢 | J10: 平三中 | K10: いわき | L10: 学32 | M10: 中3 | O10: 66 | P10: 鈴木 翔太 | Q10: 泉中 | R10: いわき | S10: カ32 | T10: 中3 | V10: 96 | W10: 大平 昊河 | X10: 西袋中 | Y10: 県南 | Z10: 学32 | AA10: 中2
A11: 7 | B11: 小檜山 太陽 | C11: 喜多方卓球ランド | D11: 会津 | E11: 学2 | F11: 中3 | H11: 37 | I11: 伊関 大翔 | J11: 喜多方卓球ランド | K11: 会津 | L11: 小2-2 | M11: 小5 | O11: 67 | P11: 穂積 拓音 | Q11: 表郷中 | R11: 県南 | S11: 学8 | T11: 中2 | V11: 97 | W11: 池部 綾人 | X11: セブンクラブ | Y11: 相双 | Z11: 学8 | AA11: 中1
A12: 8 | B12: 野内 曖希 | C12: 二本松実業高 | D12: 県北 | E12: 総16 | F12: 高3 | H12: 38 | I12: 蛭田 圭亮 | J12: いわき卓球 | K12: いわき | L12: 学８ | M12: 中2 | O12: 68 | P12: 羽柴 柚輝 | Q12: 喜多方卓球ランド | R12: 会津 | S12: 学16 | T12: 中2 | V12: 98 | W12: 小池 大夢 | X12: JAHD | Y12: 県北 | Z12: カ32 | AA12: 中3
A13: 9 | B13: 木村 善 | C13: T.C赤井沢 | D13: 県北 | E13: 中体2 | F13: 中2 | H13: 39 | I13: 佐藤 颯飛 | J13: 小名浜二中 | K13: いわき | L13: 学32 | M13: 中3 | O13: 69 | P13: 吉田 圭佑 | Q13: 富久山卓球クラブ | R13: 県中 | S13: （推） | T13: 中2 | V13: 99 | W13: 佐藤 翔陽 | X13: 平野TTC | Y13: 県北 | Z13: 小2-16 | AA13: 小3
A14: 10 | B14: 渡辺 典慎 | C14: 二本松実業高 | D14: 県北 | E14: 新16 | F14: 高3 | H14: 40 | I14: 平栗 颯人 | J14: 富久山卓球クラブ | K14: 県中 | L14: 学8 | M14: 中1 | O14: 70 | P14: 石川 颯大 | Q14: 塙中 | R14: 県南 | S14: 学32 | T14: 中3 | V14: 100 | W14: 佐々木 慧悟 | X14: 西郷二中 | Y14: 県南 | Z14: 学32 | AA14: 中2
A15: 11 | B15: 小鍜治 蒼汰 | C15: 勿来卓球クラブ | D15: いわき | E15: 学3 | F15: 中3 | H15: 41 | I15: 秀野 暖人 | J15: 帝京安積高 | K15: 県中 | L15: IH32 | M15: 高1 | O15: 71 | P15: 角田 康太朗 | Q15: 須賀川三中 | R15: 県南 | S15: 学16 | T15: 中1 | V15: 101 | W15: 鈴木 晶理 | X15: チームA.T.C | Y15: 県北 | Z15: 学32 | AA15: 中2
A16: 12 | B16: 佐々木 遼 | C16: 帝京安積高 | D16: 県中 | E16: IH32 | F16: 高2 | H16: 42 | I16: 赤津 悠真 | J16: 平二中 | K16: いわき | L16: 学32 | M16: 中3 | O16: 72 | P16: 相樂 宙孝 | Q16: 郡山ふれあい | R16: 県中 | S16: 学32 | T16: 中3 | V16: 102 | W16: 笠井 寛成 | X16: JAHD | Y16: 県北 | Z16: （推） | AA16: 中2
... A25: 21 | B25: 佐藤 久稀 | C25: 岩瀬農業高 | D25: 県南 | E25: 総32 | F25: 高1 | H25: 51 | I25: 遠藤 伝 | J25: サンシャイン | K25: いわき | L25: 小2-13 | M25: 小5 | O25: 81 | P25: 鈴木 輝琉亜 | Q25: 城北TTC | R25: 会津 | S25: 学32 | T25: 中2 | V25: 111 | W25: 安田 絢音 | X25: 磐崎中 | Y25: いわき | Z25: （推） | AA25: 中2
A26: 22 | B26: 久保木 煌桜 | C26: 学法石川高 | D26: 県南 | E26: 総32 | F26: 高2 | H26: 52 | I26: 唐橋 盟 | J26: 喜多方卓球ランド | K26: 会津 | L26: 小2-9 | M26: 小5 | O26: 82 | P26: 坂野 佑 | Q26: みなみクラブ | R26: 県北 | S26: （推） | T26: 中3 | V26: 112 | W26: 大和 怜夢 | X26: 金谷卓球クラブ | Y26: いわき | AA26: 小5
A27: 23 | B27: 木田 貴喜 | C27: いわき卓球 | D27: いわき | E27: 小2-4 | F27: 小5 | H27: 53 | I27: 佐藤 琉星 | J27: 平野TTC | K27: 県北 | L27: 小2-7 | M27: 小6 | O27: 83 | P27: 青木 拓也 | Q27: 郡山ふれあい | R27: 県中 | S27: 学32 | T27: 中3 | V27: 113 | W27: 赤津 和樹 | X27: いわき卓球 | Y27: いわき | Z27: 小2-12 | AA27: 小6
A28: 24 | B28: 斎藤 蒼空 | C28: JAHD | D28: 県北 | E28: 学8 | F28: 中3 | H28: 54 | I28: 神谷 知宏 | J28: 郡山ふれあい | K28: 県中 | L28: カ32 | M28: 中3 | O28: 84 | P28: 目黒 佑和 | Q28: 尚英中 | R28: 相双 | S28: （推） | T28: 中1 | V28: 114 | W28: 佐藤 天梧 | X28: JAHD | Y28: 県北 | Z28: （推） | AA28: 中1
A29: 25 | B29: 藤原 拓未 | C29: 学法石川高 | D29: 県南 | E29: 総32 | F29: 高3 | H29: 55 | I29: 中川 拳杜 | J29: 喜多方卓球ランド | K29: 会津 | L29: 学16 | M29: 中1 | O29: 85 | P29: 佐藤 拓夢 | Q29: 郡山ふれあい | R29: 県中 | S29: 小2-14 | T29: 小6 | V29: 115 | W29: 緑川 暖人 | X29: 草野中 | Y29: いわき | Z29: （推） | AA29: 中2
A30: 26 | B30: 丹野 偲月 | C30: 安積高 | D30: 県中 | E30: IH32 | F30: 高2 | H30: 56 | I30: 佐藤 章ノ助 | J30: チームA.T.C | K30: 県北 | L30: 学16 | M30: 中2 | O30: 86 | P30: 高橋 聖白 | Q30: 郡山ふれあい | R30: 県中 | S30: 学32 | T30: 中2 | V30: 116 | W30: 三好 奏人 | X30: 小名浜二中 | Y30: いわき | Z30: （推） | AA30: 中1
A31: 27 | B31: 岩崎 成吾 | C31: 須賀川桐陽高 | D31: 県南 | E31: IH32 | F31: 高2 | H31: 57 | I31: 髙橋 蒼河 | J31: みなみクラブ | K31: 県北 | L31: 学32 | M31: 中3 | O31: 87 | P31: 清水 聖翔 | Q31: サンシャイン | R31: いわき | S31: 学16 | T31: 中1 | V31: 117 | W31: 半杭 知樹 | X31: セブンクラブ | Y31: 相双 | Z31: （推） | AA31: 中1
A32: 28 | B32: 今福 叶望 | C32: 二本松卓球クラブ | D32: 県北 | E32: 学32 | F32: 中2 | H32: 58 | I32: 矢部 敬太 | J32: 喜多方卓球ランド | K32: 会津 | L32: 学32 | M32: 中3 | O32: 88 | P32: 末永 健悟 | Q32: 勿来卓球クラブ | R32: いわき | S32: 小2-11 | T32: 小6
A33: 29 | B33: 深谷 統雅 | C33: 富久山卓球クラブ | D33: 県中 | E33: 学16 | F33: 中1 | H33: 59 | I33: 林 明希 | J33: 平三中 | K33: いわき | L33: 学8 | M33: 中2 | O33: 89 | P33: 本名 叶和 | Q33: 富久山卓球クラブ | R33: 県中 | S33: カ32 | T33: 中3
A34: 30 | B34: 岸本 郷雅 | C34: 富久山卓球クラブ | D34: 県中 | E34: 学2 | F34: 中1 | H34: 60 | I34: 佐藤 渚爽 | J34: 平野TTC | K34: 県北 | L34: 学3 | M34: 中1 | O34: 90 | P34: 中島 元太 | Q34: 平野TTC | R34: 県北 | S34: 学16 | T34: 中1
A122: 118
A128: 124
A129: 125
A130: 126
A131: 127
A132: 128
A133: 129
A134: 130
A135: 131
A136: 132
A137: 133
A138: 134
... A167: 163

Sheet 2026-3女子ランキング
A1: 2026年度第3回福島県小中高校生卓球競技選抜強化リーグ大会（女子） 2026年8月29日(土) ランキング
A2: 女 子 | H2: ※ 高校生の推薦選手・小学生の推薦選手・地元増推薦選手は ランキング表には掲載しない。 | AA2: いわき市立総合体育館
A4: ランク | B4: 氏名 | C4: 所属 | D4: 地区 | E4: メモ | F4: 学年 | H4: ランク | I4: 氏名 | J4: 所属 | K4: 地区 | L4: メモ | M4: 学年 | O4: ランク | P4: 氏名 | Q4: 所属 | R4: 地区 | S4: メモ | T4: 学年 | V4: ランク | W4: 氏名 | X4: 所属 | Y4: 地区 | Z4: メモ | AA4: 学年
A5: 1 | B5: 矢部 莉央 | C5: 喜多方高 | D5: 会津 | E5: 総32 | F5: 高1 | H5: 21 | I5: 野木 日葵 | J5: 平三中 | K5: いわき | L5: 学8 | M5: 中2 | O5: 41 | P5: 佐々木 唯 | Q5: 富久山卓球クラブ | R5: 県中 | S5: 小2-11 | T5: 小5 | V5: 61 | W5: 五十嵐 うらら | X5: 喜多方卓球ランド | Y5: 会津 | Z5: 小2-12 | AA5: 小6
A6: 2 | B6: 遠藤 宇咲 | C6: サンシャイン | D6: いわき | E6: 学1 | F6: 中1 | H6: 22 | I6: 関根 櫻花 | J6: 須賀川スポ少 | K6: 県南 | L6: 学16 | M6: 中2 | O6: 42 | P6: 長谷澤 愛和 | Q6: 泉中 | R6: いわき | S6: 学32 | T6: 中3 | V6: 62 | W6: 羽山 華純 | X6: 中村一中 | Y6: 相双 | Z6: 学32 | AA6: 中2
A7: 3 | B7: 秋山 愛瑠 | C7: いわき卓球 | D7: いわき | E7: 学3 | F7: 中1 | H7: 23 | I7: 三瓶 奏美 | J7: 勿来卓球クラブ | K7: いわき | L7: 小2-6 | M7: 小4 | O7: 43 | P7: 佐藤 羽潤 | Q7: 四倉卓球クラブ | R7: いわき | S7: 学8 | T7: 中1 | V7: 63 | W7: 岡田 茉奈 | X7: 植田中 | Y7: いわき | Z7: 学32 | AA7: 中2
A8: 4 | B8: 竹森 心晴 | C8: 勿来卓球クラブ | D8: いわき | E8: 小2-1 | F8: 小6 | H8: 24 | I8: 遠宮 真結 | J8: 富久山卓球クラブ | K8: 県中 | L8: 小2-10 | M8: 小6 | O8: 44 | P8: 安田 ゆめ | Q8: 二本松一中 | R8: 県北 | S8: 学32 | T8: 中2 | V8: 64 | W8: 牛渡 璃音 | X8: セブンクラブ | Y8: 相双 | Z8: 学16 | AA8: 中1
A9: 5 | B9: 矢部 雅奈 | C9: 喜多方卓球ランド | D9: 会津 | E9: 学2 | F9: 中2 | H9: 25 | I9: 難波 心春 | J9: JAHD | K9: 県北 | L9: 学8 | M9: 中3 | O9: 45 | P9: 近野 怜緒 | Q9: 郡山ふれあい | R9: 県中 | S9: 学16 | T9: 中1 | V9: 65 | W9: 馬目 理沙 | X9: 小名浜二中 | Y9: いわき | Z9: 学32 | AA9: 中2
A10: 6 | B10: 佐藤 夏実 | C10: 郡山ふれあい | D10: 県中 | E10: カ8 | F10: 中3 | H10: 26 | I10: 齋藤 蒼空 | J10: 本宮卓球クラブ | K10: 県中 | L10: 学8 | M10: 中2 | O10: 46 | P10: 尾梶 蘭奈 | Q10: あゆりジュニア | R10: 県南 | S10: 学16 | T10: 中1 | V10: 66 | W10: 渡部 心遥 | X10: 江名中 | Y10: いわき | Z10: 学32 | AA10: 中2
A11: 7 | B11: 森 優空 | C11: 相馬クラブ | D11: 相双 | E11: 学16 | F11: 中3 | H11: 27 | I11: 小林 ななみ | J11: 赤井中 | K11: いわき | L11: 学16 | M11: 中3 | O11: 47 | P11: 木戸 優花 | Q11: 富久山卓球クラブ | R11: 県中 | S11: （推） | T11: 中3 | V11: 67 | W11: 渡邊 真織 | X11: 小高スポ少 | Y11: 相双 | Z11: 小2-19 | AA11: 小4
A12: 8 | B12: 樋口 夢咲 | C12: 会和卓球RM | D12: 会津 | E12: 小2-3 | F12: 小6 | H12: 28 | I12: 野川 杏花 | J12: 須賀川スポ少 | K12: 県南 | L12: 小1-5 | M12: 小6 | O12: 48 | P12: 吉田 悠真 | Q12: 船引南中 | R12: 県中 | S12: 学32 | T12: 中2 | V12: 68 | W12: 西間木 結子 | X12: 須賀川スポ少 | Y12: 県南 | Z12: 小2-14 | AA12: 小6
A13: 9 | B13: 苅宿 未来 | C13: 富久山卓球クラブ | D13: 県中 | E13: カ3 | F13: 中3 | H13: 29 | I13: 清水亜由里 | J13: サンシャイン | K13: いわき | L13: 学32 | M13: 中3 | O13: 49 | P13: 菊田 智優 | Q13: みなみクラブ | R13: 県北 | S13: 学16 | T13: 中2 | V13: 69 | W13: 安西 来真 | X13: JAHD | Y13: 県北 | AA13: 小6
A14: 10 | B14: 渡辺 芹夏 | C14: いわき卓球 | D14: いわき | E14: 学2 | F14: 中1 | H14: 30 | I14: 吉田 正碧咲 | J14: 泉中 | K14: いわき | L14: 学32 | M14: 中3 | O14: 50 | P14: 安島 菜愛 | Q14: 勿来卓球クラブ | R14: いわき | S14: 学16 | T14: 中2 | V14: 70 | W14: 関本 ひまり | X14: 富久山卓球クラブ | Y14: 県中 | Z14: 小2-18 | AA14: 小5
A15: 11 | B15: 金澤 杏 | C15: 塙中 | D15: 県南 | E15: 学８ | F15: 中3 | H15: 31 | I15: 及川 理那 | J15: 郡山第一卓球クラブ | K15: 県中 | L15: 小2-5 | M15: 小6 | O15: 51 | P15: 濱部 里咲 | Q15: 尚英中 | R15: 相双 | S15: 学8 | T15: 中1 | V15: 71 | W15: 水野谷 絆那 | X15: 表郷中 | Y15: 県南 | Z15: 学16 | AA15: 中1
A16: 12 | B16: 三瓶 美咲 | C16: 勿来卓球クラブ | D16: いわき | E16: 学3 | F16: 中2 | H16: 32 | I16: 田中 璃依 | J16: 赤井中 | K16: いわき | L16: 学32 | M16: 中3 | O16: 52 | P16: 菅原 花菜子 | Q16: チームA.T.C | R16: 県北 | S16: 学16 | T16: 中2 | V16: 72 | W16: 井上 愛心 | X16: 二本松卓球クラブ | Y16: 県北 | Z16: 学16 | AA16: 中1
A17: 13 | B17: 新妻 由萌 | C17: Team SANKYO | D17: いわき | E17: 学3 | F17: 中2 | H17: 33 | I17: 坂本 結葵 | J17: 勿来卓球クラブ | K17: いわき | L17: 学32 | M17: 中3 | O17: 53 | P17: 神田 真那 | Q17: JAHD | R17: 県北 | S17: 小2-8 | T17: 小6 | V17: 73 | W17: 志村 優李 | X17: あゆりジュニア | Y17: 県南 | Z17: 小2-17 | AA17: 小2
A18: 14 | B18: 鈴木 心都 | C18: 富久山卓球クラブ | D18: 県中 | F18: 中1 | H18: 34 | I18: 栗城 あかり | J18: 田島中 | K18: 会津 | L18: 学32 | M18: 中3 | O18: 54 | P18: 班目 恵琳 | Q18: 小名浜二中 | R18: いわき | S18: 学32 | T18: 中2 | V18: 74 | W18: 桂木 ののか | X18: 江名中 | Y18: いわき | Z18: （推） | AA18: 中2
A19: 15 | B19: 金成 咲良 | C19: 平一中 | D19: いわき | E19: 学３ | F19: 中3 | H19: 35 | I19: 塚田 優華 | J19: サンシャイン | K19: いわき | L19: 学32 | M19: 中3 | O19: 55 | P19: 村上 華倫 | Q19: 富久山卓球クラブ | R19: 県中 | S19: 学16 | T19: 中1 | V19: 75 | W19: 清藤 芹香 | X19: 富久山卓球クラブ | Y19: 県中 | AA19: 小4
A20: 16 | B20: 小松 明星 | C20: 平一中 | D20: いわき | E20: 学３ | F20: 中3 | H20: 36 | I20: 神田 莉那 | J20: JAHD | K20: 県北 | L20: 学16 | M20: 中2 | O20: 56 | P20: 佐藤 夢佳 | Q20: 平二中 | R20: いわき | S20: （推） | T20: 中3 | V20: 76 | W20: 細山 奈桜 | X20: 久之浜中 | Y20: いわき | Z20: （推） | AA20: 中2
A21: 17 | B21: 小林 育実 | C21: 四倉卓球クラブ | D21: いわき | E21: カ32 | F21: 中1 | H21: 37 | I21: 飯田 光莉 | J21: 神谷クラブ | K21: いわき | L21: 小2-9 | M21: 小6 | O21: 57 | P21: 長島 陽菜 | Q21: チームA.T.C | R21: 県北 | S21: 学16 | T21: 中2 | V21: 77 | W21: 𠮷田 桜 | X21: 石森クラブ | Y21: 県中 | Z21: 学32 | AA21: 中2
A22: 18 | B22: 藤井 佳 | C22: 富久山卓球クラブ | D22: 県中 | E22: カ16 | F22: 中2 | H22: 38 | I22: 鈴木 栞菜 | J22: あゆりジュニア | K22: 県南 | L22: 学32 | M22: 中2 | O22: 58 | P22: 片桐 美麗 | Q22: 勿来二中 | R22: いわき | S22: （推） | T22: 中3 | V22: 78 | W22: 庄司 百華 | X22: 城北TTC | Y22: 会津 | Z22: 小2-16 | AA22: 小6
A23: 19 | B23: 髙田 杏 | C23: サンシャイン | D23: いわき | E23: 学8 | F23: 中1 | H23: 39 | I23: 佐々木 南緒 | J23: 平野中 | K23: 県北 | L23: 中体32 | M23: 中3 | O23: 59 | P23: 川﨑 理未 | Q23: いわき卓球 | R23: いわき | S23: 小2-7 | T23: 小4 | V23: 79 | W23: 柏原 咲菜 | X23: 石森クラブ | Y23: 県中 | AA23: 小6
A24: 20 | B24: 遠藤 葉月 | C24: Ｔ.Ｃ赤井沢 | D24: 県北 | E24: 学8 | F24: 中2 | H24: 40 | I24: 田中 希 | J24: いわき卓球 | K24: いわき | L24: 小2-4 | M24: 小6 | O24: 60 | P24: 柏原 愛 | Q24: 船引南中 | R24: 県中 | S24: 学32 | T24: 中2
A105: 112
A106: 113
A107: 114
A108: 115
A109: 116
A110: 117
A111: 118
A112: 119
A113: 120
A114: 121
A115: 122
A116: 123
... A156: 163

Sheet 男子ﾗﾝｸ 2026_2回
A1: ２０２６年度第２回福島県小学生強化ﾘｰｸﾞ卓球大会（男子）ﾗﾝｸ
A4: No. | B4: 氏名 | C4: 所属 | D4: 支部 | E4: メモ | F4: 学年 | H4: No. | I4: 氏名 | J4: 所属 | K4: 支部 | L4: メモ | M4: 学年
A5: 1 | B5: 橋本 逞馬 | C5: 本宮卓球クラブ | D5: 県中 | F5: 6 | H5: 51 | I5: 阿部 悠義 | J5: みなみクラブ | K5: 県北 | M5: 6
A6: 2 | B6: 伊関 大翔 | C6: 喜多方卓球ランド | D6: 会津 | F6: 5 | H6: 52 | I6: 國嶋 蒼汰 | J6: 平野TTC | K6: 県北 | M6: 5
A7: 3 | B7: 近野 葵 | C7: 郡山ふれあい | D7: 県中 | F7: 6 | H7: 53 | I7: 管野 佑 | J7: 相馬クラブ | K7: 相双 | M7: 6
A8: 4 | B8: 木田 貴喜 | C8: いわき卓球 | D8: いわき | F8: 5 | H8: 54 | I8: 高橋 卓大 | J8: JAHD | K8: 県北 | M8: 6
A9: 5 | B9: 大和田 翼颯 | C9: 富久山卓球クラブ | D9: 県中 | F9: 6 | H9: 55 | I9: 大和田 航琉 | J9: 平野TTC | K9: 県北 | M9: 4
A10: 6 | B10: 羽柴 陽輝 | C10: 喜多方卓球ランド | D10: 会津 | F10: 6 | H10: 56 | I10: 井上 福士 | J10: 喜多方卓球ランド | K10: 会津 | M10: 2
A11: 7 | B11: 佐藤 琉星 | C11: 平野TTC | D11: 県北 | F11: 6 | H11: 57 | I11: 佐藤 秀理 | J11: JAHD | K11: 県北 | M11: 3
A12: 8 | B12: 井上 優空 | C12: 喜多方卓球ランド | D12: 会津 | F12: 5 | H12: 58 | I12: 根本 柊虎 | J12: 白河クラブ | K12: 県南 | M12: 4
A13: 9 | B13: 唐橋 盟 | C13: 喜多方卓球ランド | D13: 会津 | F13: 5 | H13: 59 | I13: 川島 壮介 | J13: 城北TTC | K13: 会津 | M13: 6
A14: 10 | B14: 齋藤 旭 | C14: 本宮卓球クラブ | D14: 県中 | F14: 6 | H14: 60 | I14: 高橋 爽太 | J14: 富久山卓球クラブ | K14: 県中 | M14: 4
A15: 11 | B15: 末永 健悟 | C15: 勿来卓球クラブ | D15: いわき | F15: 6 | H15: 61 | I15: 高橋 秀矢 | J15: 富久山卓球クラブ | K15: 県中 | M15: 2
A16: 12 | B16: 赤津 和樹 | C16: いわき卓球 | D16: いわき | F16: 6 | H16: 62 | I16: 唐橋 稜 | J16: 喜多方卓球ランド | K16: 会津 | M16: 2
A17: 13 | B17: 遠藤 伝 | C17: サンシャイン | D17: いわき | F17: 5 | H17: 63 | I17: 尾形 勇信 | J17: 城北TTC | K17: 会津 | M17: 小5
A18: 14 | B18: 佐藤 拓夢 | C18: 郡山ふれあい | D18: 県中 | F18: 6 | H18: 64 | I18: 太田 優晴 | J18: 郡山第一卓球クラブ | K18: 県中 | M18: 2
A19: 15 | B19: 大和田 朝陽 | C19: 富久山卓球クラブ | D19: 県中 | F19: 4 | H19: 65 | I19: 大堀 真叶 | J19: 城北TTC | K19: 会津 | M19: 5
A20: 16 | B20: 佐藤 翔陽 | C20: 平野TTC | D20: 県北 | F20: 3 | H20: 66 | I20: 五十嵐 恵介 | J20: JAHD | K20: 県北 | M20: 5
A21: 17 | B21: 小山田 光基 | C21: 郡山第一卓球クラブ | D21: 県中 | F21: 5 | H21: 67 | I21: 鈴木 理仁 | J21: 猪苗代卓球クラブ | K21: 会津 | M21: 6
A22: 18 | B22: 藤田 瑛泰 | C22: セブンクラブ | D22: 相双 | F22: 6 | H22: 68 | I22: 星 雄太 | J22: 舘岩スポーツ少年団 | K22: 会津 | M22: 6
A23: 19 | B23: 原田 蓮埜 | C23: 平野TTC | D23: 県北 | F23: 6 | H23: 69 | I23: 中井 都王 | J23: UNITE | K23: 県南 | M23: 年長
A24: 20 | B24: 原 光 | C24: 小高スポ少 | D24: 相双 | F24: 6 | H24: 70 | I24: 大和田 航生 | J24: 平野TTC | K24: 県北 | M24: 2
A25: 21 | B25: 大和 怜夢 | C25: 金谷卓球クラブ | D25: いわき | F25: 5 | H25: 71 | I25: 大出 新 | J25: セブンクラブ | K25: 相双 | M25: 5
A26: 22 | B26: 増田 燈真 | C26: 会和卓球RM | D26: 会津 | F26: 5 | H26: 72 | I26: 伊藤 武ノ丞 | J26: チームATC | K26: 県北 | L26: 初 | M26: 5
A27: 23 | B27: 七海 和希 | C27: 郡山第一卓球クラブ | D27: 県中 | F27: 6 | H27: 73 | I27: 石田 琢磨 | J27: 猪苗代卓球クラブ | K27: 会津 | M27: 4
A28: 24 | B28: 伊藤 柊翔 | C28: 須賀川市卓球スポーツ少年団 | D28: 県南 | F28: 6 | H28: 74 | I28: 菅野 洋人 | J28: FDY卓球クラブ | K28: 県北 | L28: 初 | M28: 6
A29: 25 | B29: 志賀 宥哉 | C29: いわき卓球 | D29: いわき | F29: 6 | H29: 75 | I29: 吉田 佑成 | J29: 郡山第一卓球クラブ | K29: 県中 | L29: 初 | M29: 2
A30: 26 | B30: 三馬 悠翔 | C30: 会和卓球RM | D30: 会津 | F30: 5 | H30: 76 | I30: 鈴木 陽斗 | J30: 勿来卓球クラブ | K30: いわき | M30: 2
A31: 27 | B31: 田中 善 | C31: Team SANKYO | D31: いわき | F31: 5 | H31: 77 | I31: 入谷 崇介 | J31: 白河クラブ | K31: 県南 | M31: 4
A32: 28 | B32: 原 翔 | C32: 小高スポ少 | D32: 相双 | F32: 3 | H32: 78 | I32: 西山 一颯 | J32: 勿来卓球クラブ | K32: いわき | M32: 4
A33: 29 | B33: 斎藤 碧人 | C33: 須賀川市卓球スポーツ少年団 | D33: 県南 | F33: 5 | H33: 79 | I33: 佐藤 瑛真 | J33: 須賀川市卓球スポーツ少年団 | K33: 県南 | L33: 初 | M33: 4
A34: 30 | B34: 古川 友己 | C34: 富久山卓球クラブ | D34: 県中 | F34: 3 | H34: 80 | I34: 渡辺 陽貴 | J34: 平野TTC | K34: 県北 | L34: 初 | M34: 2
A35: 31 | B35: 酒井 心平 | C35: サンシャイン | D35: いわき | F35: 5 | H35: 81 | I35: 廣嶋 藍 | J35: 金谷卓球クラブ | K35: いわき | L35: 初 | M35: 4
A36: 32 | B36: 林 隆瞭 | C36: 金谷卓球クラブ | D36: いわき | F36: 5 | H36: 82 | I36: 安原 羽琉 | J36: 金谷卓球クラブ | K36: いわき | L36: 初 | M36: 6
A37: 33 | B37: 津守 聡輔 | C37: 本宮卓球クラブ | D37: 県中 | F37: 5 | H37: 83
A38: 34 | B38: 鈴木 晃 | C38: 勿来卓球クラブ | D38: いわき | F38: 5 | H38: 84
A39: 35 | B39: 今泉 蔵之介 | C39: 金谷卓球クラブ | D39: いわき | F39: 6 | H39: 85
A40: 36 | B40: 中山 惺心 | C40: サンシャイン | D40: いわき | F40: 5 | H40: 86
A41: 37 | B41: 六角 健人 | C41: 郡山第一卓球クラブ | D41: 県中 | F41: 5 | H41: 87
A42: 38 | B42: 会田 頼永 | C42: 須賀川市卓球スポーツ少年団 | D42: 県南 | F42: 5 | H42: 88
A43: 39 | B43: 渡邉 碧 | C43: 平野TTC | D43: 県北 | F43: 6 | H43: 89
A44: 40 | B44: 渡邊 蒼士 | C44: 二本松卓球クラブ | D44: 県北 | F44: 5 | H44: 90
A45: 41 | B45: 菅野 公己 | C45: 郡山第一卓球クラブ | D45: 県中 | F45: 4 | H45: 91
A46: 42 | B46: 松本 柊優 | C46: 小高スポ少 | D46: 相双 | F46: 6 | H46: 92
A47: 43 | B47: 佐藤 蒼士 | C47: 郡山第一卓球クラブ | D47: 県中 | F47: 6 | H47: 93
A48: 44 | B48: 伊達 丈留 | C48: 富久山卓球クラブ | D48: 県中 | F48: 4 | H48: 94
... A54: 50 | B54: 阿部 尚弥 | C54: JAHD | D54: 県北 | F54: 5 | H54: 100

Sheet 女子ﾗﾝｸ 2026_2回
A1: ２０２６年度第２回福島県小学生強化ﾘｰｸﾞ卓球大会（女子）ﾗﾝｸ
A4: No. | B4: 氏名 | C4: 所属 | D4: 支部 | E4: メモ | F4: 学年 | H4: No. | I4: 氏名 | J4: 所属 | K4: 支部 | L4: メモ | M4: 学年
A5: 1 | B5: 竹森 心晴 | C5: 勿来卓球クラブ | D5: いわき | F5: 6 | H5: 52 | I5: 佐藤 結優 | J5: 郡山第一卓球クラブ | K5: 県中 | M5: 3
A6: 2 | B6: 小平 纏 | C6: いわき卓球 | D6: いわき | F6: 6 | H6: 53 | I6: 中山 心陽 | J6: サンシャイン | K6: いわき | M6: 4
A7: 3 | B7: 樋口 夢咲 | C7: 会和卓球RM | D7: 会津 | F7: 6 | H7: 54 | I7: 坂野 碧 | J7: みなみクラブ | K7: 県北 | M7: 6
A8: 4 | B8: 田中 希 | C8: いわき卓球 | D8: いわき | F8: 6 | H8: 55 | I8: 石井 希々愛 | J8: 二本松卓球クラブ | K8: 県北 | M8: 6
A9: 5 | B9: 三瓶 奏美 | C9: 勿来卓球クラブ | D9: いわき | F9: 4 | H9: 56 | I9: 佐藤 結愛 | J9: みなみクラブ | K9: 県北 | M9: 5
A10: 6 | B10: 及川 理那 | C10: 郡山第一卓球クラブ | D10: 県中 | F10: 6 | H10: 57 | I10: 鈴木 悠莉 | J10: 神谷クラブ | K10: いわき | M10: 6
A11: 7 | B11: 川﨑 理未 | C11: いわき卓球 | D11: いわき | F11: 4 | H11: 58 | I11: 佐藤 恵美花 | J11: 蓬莱TTC | K11: 県北 | M11: 6
A12: 8 | B12: 神田 真那 | C12: JAHD | D12: 県北 | F12: 6 | H12: 59 | I12: 村上 心陽 | J12: 富久山卓球クラブ | K12: 県中 | M12: 1
A13: 9 | B13: 飯田 光莉 | C13: 神谷クラブ | D13: いわき | F13: 6 | H13: 60 | I13: 本名 理真 | J13: 富久山卓球クラブ | K13: 県中 | M13: 6
A14: 10 | B14: 遠宮 真結 | C14: 富久山卓球クラブ | D14: 県中 | F14: 6 | H14: 61 | I14: 鈴木 希和 | J14: 四倉卓球クラブ | K14: いわき | M14: 5
A15: 11 | B15: 佐々木 唯 | C15: 富久山卓球クラブ | D15: 県中 | F15: 5 | H15: 62 | I15: 唐 静希 | J15: 富久山卓球クラブ | K15: 県中 | M15: 3
A16: 12 | B16: 五十嵐 うらら | C16: 喜多方卓球ランド | D16: 会津 | F16: 6 | H16: 63 | I16: 松本 杏奈 | J16: あゆりジュニア | K16: 県南 | M16: 2
... A36: 32 | B36: 樫村 燈 | C36: 富久山卓球クラブ | D36: 県中 | F36: 4 | H36: 83 | I36: 江井 つぐみ | J36: 舘岩スポーツ少年団 | K36: 会津 | M36: 4
A37: 33 | B37: 高橋 愛樹 | C37: 喜多方卓球ランド | D37: 会津 | F37: 6 | H37: 84 | I37: 十文字 由梨 | J37: 大沼ジュニア | K37: 県南 | L37: 初 | M37: 6
A38: 34 | B38: 菊田 梨那 | C38: みなみクラブ | D38: 県北 | F38: 3 | H38: 85 | I38: 宮里 陽 | J38: 城北TTC | K38: 会津 | M38: 6
A39: 35 | B39: 添田 逢心 | C39: 須賀川市卓球スポーツ少年団 | D39: 県南 | F39: 6 | H39: 86 | I39: 小野 来夏 | J39: 富久山卓球クラブ | K39: 県中 | M39: 4
A40: 36 | B40: 太田 澪 | C40: 郡山第一卓球クラブ | D40: 県中 | F40: 4 | H40: 87 | I40: 小野 紡季 | J40: 富久山卓球クラブ | K40: 県中 | M40: 1
A41: 37 | B41: 吉田 愛華 | C41: 須賀川市卓球スポーツ少年団 | D41: 県南 | F41: 3 | H41: 88 | I41: 鈴木 遥乃 | J41: 猪苗代卓球クラブ | K41: 会津 | M41: 6
A42: 38 | B42: 大森 璃奈 | C42: 相馬クラブ | D42: 相双 | F42: 4 | H42: 89 | I42: 石橋 結菜 | J42: 会和卓球RM | K42: 会津 | M42: 5
A43: 39 | B43: 四家 杏奈 | C43: 金谷卓球クラブ | D43: いわき | F43: 4 | H43: 90 | I43: 吉田 陽夏花 | J43: 須賀川市卓球スポーツ少年団 | K43: 県南 | M43: 1
A44: 40 | B44: 齋藤 千佳 | C44: 蓬莱TTC | D44: 県北 | F44: 4 | H44: 91 | I44: 小針 佳子 | J44: みなみクラブ | K44: 県北 | L44: 初 | M44: 5
A45: 41 | B45: 酒井 ふく | C45: サンシャイン | D45: いわき | F45: 2 | H45: 92 | I45: 髙野 陽葵里 | J45: 石森クラブ | K45: 県中 | M45: 年長
A46: 42 | B46: 徳永 悠乃 | C46: IZUMIclub | D46: 会津 | F46: 5 | H46: 93 | I46: 塩田 優菜 | J46: 大沼ジュニア | K46: 県南 | L46: 初 | M46: 6
A47: 43 | B47: 鹿股 笑愛 | C47: 城北TTC | D47: 会津 | F47: 5 | H47: 94 | I47: 法澤 楓奈 | J47: あつかし卓球会 | K47: 県北 | L47: 初 | M47: 5
A48: 44 | B48: 齋藤 楓華 | C48: 蓬莱TTC | D48: 県北 | F48: 4 | H48: 95 | I48: 本多 葵 | J48: 二本松卓球クラブ | K48: 県北 | L48: 初 | M48: 6
A49: 45 | B49: 高橋 佑奈 | C49: JAHD | D49: 県北 | F49: 3 | H49: 96 | I49: 鹿股 まな | J49: 城北TTC | K49: 会津 | M49: 3
A50: 46 | B50: 齋藤 ゆいか | C50: 平野TTC | D50: 県北 | F50: 4 | H50: 97 | I50: 荒川 希光 | J50: 城北TTC | K50: 会津 | M50: 5
A51: 47 | B51: 佐藤 彩凪 | C51: 二本松卓球クラブ | D51: 県北 | F51: 6 | H51: 98 | I51: 湯田 佳澄 | J51: チームATC | K51: 県北 | L51: 初 | M51: 4
A52: 48 | B52: 草野 星那 | C52: 金谷卓球クラブ | D52: いわき | F52: 6 | H52: 99 | I52: 吉原 穂夏 | J52: あつかし卓球会 | K52: 県北 | L52: 初 | M52: 5
A53: 49 | B53: 湯田 詩織 | C53: 富久山卓球クラブ | D53: 県中 | F53: 6 | H53: 100 | I53: 松本 結愛 | J53: AKAI Smashers | K53: いわき | L53: 初 | M53: 5
A54: 50 | B54: 末永 みなみ | C54: セブンクラブ | D54: 相双 | F54: 5 | H54: 101 | I54: 六角 結子 | J54: 郡山第一卓球クラブ | K54: 県中 | L54: 初 | M54: 3
A55: 51 | B55: 関本 つむぎ | C55: 富久山卓球クラブ | D55: 県中 | F55: 3 | H55: 102

Sheet 2026年度日程一覧
B1: ２０２６年度福島県小中高校生卓球競技選抜強化リーグ大会日程一覧
F2: 46117 | G2: 現在 | H2: 会場は 4月1日現在での最終決定します。
B3: 回 | C3: 実施日 | D3: 曜日 | E3: 当確 | F3: 会 場 | G3: 主管支部 | H3: 要綱送付 | I3: 申込締切 | J3: 各地区締切 | K3: 選 考 会 (予定）
B4: 1 | C4: 46116 | D4: 土 | E4: 終了 | F4: 郡山市西部体育館 | G4: 県中 | H4: 44266 | I4: =C4-15 -> 46101 | J4: =I4-4 -> 46097 | K4: 栃木県交流会大会（７月12日(日) 白河市中央体育館）代表の選考(参考)
B5: 2 | C5: 46200 | D5: 土 | E5: 終了 | F5: あいづ総合体育館 (県北支部バックアップ) | G5: 会津 | H5: =C5-35 -> 46165 | I5: =C5-15 -> 46185 | J5: =I5-4 -> 46181 | K5: 各種合宿等の選手選考（参考）
B6: 3 | C6: 46263 | D6: 土 | E6: 終了 | F6: いわき市立総合体育館 (冷房完備 協力金+500円) | G6: いわき | H6: =C6-35 -> 46228 | I6: =C6-15 -> 46248 | J6: =I6-4 -> 46244
B7: 4 | C7: 46326 | D7: 土 | E7: 決定 | F7: まるさん・あったまるアリーナ 南相馬市スポーツセンター | G7: 相双 | H7: =C7-35 -> 46291 | I7: 46308 | J7: =I7-4 -> 46304 | K7: 東北中学強化交流大会（12/26-27 宮城県開催）選考（参考） 各種合宿等の選手選考（参考）
B8: 5 | C8: 46403 | D8: 土 | E8: 決定 | F8: すかがわ『だんぼっち』『ダンボ・ウル』アリーナ 円谷幸吉メモリアルアリーナ | G8: 県南 | H8: =C8-35 -> 46368 | I8: =C8-15 -> 46388 | J8: =I8-4 -> 46384 | K8: 各種合宿等の選手選考（参考）
B9: 6 | C9: 46453 | D9: 日 | E9: 決定 | F9: あいづ総合体育館 | G9: 会津 | H9: =C9-35 -> 46418 | I9: =C9-15 -> 46438 | J9: =I9-4 -> 46434 | K9: 各種合宿等の選手選考（参考）
C10: ※3月1日が県立高校の卒業式に当たるため、小学生強化リーグ日程と交換しました。
B11: ２０２６年度福島県小学生強化リーグ大会日程一覧
F12: =F2 -> 46117 | G12: 現在 | H12: 会場は 4月1日現在での最終決定します。
B13: 回 | C13: 実施日 | D13: 曜日 | E13: 当確 | F13: 会 場 | G13: 主管支部 | H13: 要綱送付 | I13: 申込締切 | J13: 各地区締切 | K13: 選 考 会 (予定）
B14: 1 | C14: 46179 | D14: 土 | E14: 終了 | F14: 会津若松市 河東総合体育館 | G14: 会津 | H14: =C14-35 -> 46144 | I14: =C14-15 -> 46164 | J14: =I14-4 -> 46160 | K14: 上位20位までが2027年度第一回までの福島県小中高強化リーグに参加できる
B15: 2 | C15: 46257 | D15: 日 | E15: 終了 | F15: 福島市 福島トヨタクラウンアリーナ (冷房完備 協力金+500円) | G15: 県北 | H15: =C15-40 -> 46217 | I15: =C15-20 -> 46237 | J15: =I15-4 -> 46233 | K15: 上位20位までが2027年度第一回までの福島県小中高強化リーグに参加できる
B16: 3 | C16: 46340 | D16: 土 | E16: 決定 | F16: 会津若松市 河東総合体育館 | G16: 会津 | H16: =C16-40 -> 46300 | I16: =C16-20 -> 46320 | J16: =I16-4 -> 46316 | K16: 上位20位までが2027年度第一回までの福島県小中高強化リーグに参加できる 東北・北海道小学生交流大会(岩手県花巻市・12月26日～27日開催）選手選考(参考）
B17: 4 | C17: 46398 | D17: 月・祝 | E17: 決定 | F17: 本宮市総合体育館 33台 | G17: 県中 | H17: =C17-40 -> 46358 | I17: =C17-20 -> 46378 | J17: =I17-4 -> 46374 | K17: 上位20位までが2027年度第一回までの福島県小中高強化リーグに参加できる
B18: 5 | C18: 46460 | D18: 日 | E18: 決定 | F18: 二本松市 城山総合体育館 | G18: 県北 | H18: =C18-40 -> 46420 | I18: =C18-20 -> 46440 | J18: =I18-4 -> 46436 | K18: 上位20位までが2027年度第一回までの福島県小中高強化リーグに参加できる
C19: ※ H28年度から小学生強化リーグは 年5回とした。
